BEGIN:VCALENDAR
METHOD:PUBLISH
VERSION:2.0
PRODID:-//Eventilla iCal Syndication//NONSGML Liana//EN
BEGIN:VEVENT
UID:y6yop@eventilla.com
DTSTAMP:20260518T050000Z
DTSTART:20260518T050000Z
DTEND:20260521T100000Z
SUMMARY:22nd Nordic Course in Trauma and Emergency Radiology
DESCRIPTION:PLEASE NOTE: Invoice payment option is only available for Nordic countries. If your department requires an invoice\, please send a message to info@nordictraumarad.com and we'll provide a separate link for registration by email.\n \n22nd Nordic Course in Trauma and Emergency Radiology\nJoin us in Helsinki\, Finland\, for another exciting 3.5 days program of state-of-the-art trauma and emergency imaging with our international faculty! \nWe have invited excellent and highly dedicated speakers from the Nordic countries\, Europe and the United States. The lectures will cover a variety of topics for a radiologist on call in both traumatic and non-traumatic emergency imaging.\nCourse venue: Hanaholmen - Swedish-Finnish Cultural Centre\, Hanasaari Espoo\, Finland (west of Helsinki)\nCourse language is English.\nCourse starts on Monday May 18th at 9 am\, registration starts at 8.15 am.\nCourse dinner on Tuesday May 19th (optional).\nCourse ends on Thursday May 21st at noon.\n \nVoting with Mentimeter in interactive sessions requires a mobile device.\nNordter will apply for CME credits by the EACCME®\nDaily buffet lunch and coffee + refreshments are included in the course fee.\nPlease note that participation is guaranteed only after finalising the registration. No travel arrangements (for example purchase of flight tickets) should be made prior to meeting registration as the event may sell out. \nCredit card payment with Stripe is highly recommended for all payments to save time and extra administrative work (more information in 'Payment methods and course fees'). If your department requires an invoice\, please send a message to info@nordictraumarad.com and we'll provide a separate link for registration (invoice option is available only for the Nordic countries). \nCancellation fee is 100 euros until April 17th\, 2026. After that cancellation is possible only by changing the participant.
LOCATION:Hanaholmen - Swedish-Finnish Cultural Centre\, Hanasaarenranta
 5\, 02100\, Espoo\, Finland
URL:http://registration.nordictraumarad.com/nordter_helsinki2026
END:VEVENT
END:VCALENDAR
